BEGIN:VCALENDAR
VERSION:2.0
PRODID:-//eventon.com NONSGML v1.0//EN
BEGIN:VEVENT
UID:69ecd53a82ef7
DTSTAMP:20260425T175242
DTSTART:20200829T090000Z
DTEND:20200829T130000Z
TZID:Europe/Berlin
LOCATION:Dzegužkalns Rīga
SUMMARY:2020. gada Latvijas Nedzirdīgo čempionāts orientēšanās sprintā
DESCRIPTION: MĒRĶIS UN UZDEVUMS Popularizēt un veicināt orientēšanās sporta attīstību sportistiem ar dzirdes traucējumiem Latvijā Paaugstināt sportistu meistarību. Noskaidrot 2020. gada Latvijas labākos orientieristus ar dzirdes traucējumiem.\nhttps://lnsf.lv/events/2020-gada-latvijas-nedzirdigo-cempionats-orientesanas-sprinta/
URL:https://lnsf.lv/events/2020-gada-latvijas-nedzirdigo-cempionats-orientesanas-sprinta/
END:VEVENT
END:VCALENDAR