BEGIN:VCALENDAR
VERSION:2.0
PRODID:-//eventon.com NONSGML v1.0//EN
BEGIN:VEVENT
UID:69e50d82219b7
DTSTAMP:20260419T201442
DTSTART:20200215T090000Z
DTEND:20200215T140000Z
TZID:Europe/Berlin
LOCATION:Rīgas Šaha skola Pērnavas iela 10\,  Rīga
SUMMARY:2020. gada LNSF balvas izcīņa šahā
DESCRIPTION: 1. MĒRĶIS UN UZDEVUMS Noskaidrot 2020. gada labākos šahistus. Popularizēt un attīstīt šahu Latvijas nedzirdīgo vidū. Paaugstināt šahistu meistarību. Dalībniekiem\,  kas pretendē uz Latvijas izlases sastāvu\,  dalība LNSF balvas izcīņā ir vēlama.\nhttps://lnsf.lv/events/2020-gada-lnsf-balvas-izcina-saha/
URL:https://lnsf.lv/events/2020-gada-lnsf-balvas-izcina-saha/
END:VEVENT
END:VCALENDAR