BEGIN:VCALENDAR
VERSION:2.0
PRODID:-//eventon.com NONSGML v1.0//EN
BEGIN:VEVENT
UID:69ead69cdae13
DTSTAMP:20260424T053404
DTSTART:20191212T000000Z
DTEND:20191221T000000Z
TZID:Europe/Berlin
LOCATION:Valtellina - Valchiavenna Itlia
SUMMARY:19. Ziemas Nedzirdīgo olimpiskās spēles (19 Winter Deaflympics)
DESCRIPTION: Latvija nepiedalīsies&nbsp;19. Ziemas Nedzirdīgo olimpiskajās spēlēs Plašāku informāciju par 19. Ziemas Nedzirdīgo olimpiskajām spēlēm (Winter Deaflympics) var atrast saitē:&nbsp; www.2019.deaflympics.com&nbsp;\nhttps://lnsf.lv/events/19-ziemas-nedzirdigo-olimpiskas-speles-19-winter-deaflympics/
URL:https://lnsf.lv/events/19-ziemas-nedzirdigo-olimpiskas-speles-19-winter-deaflympics/
END:VEVENT
END:VCALENDAR